BEGIN:VCALENDAR
VERSION:2.0
PRODID:-//eventon.com NONSGML v1.0//EN
CALSCALE:GREGORIAN
METHOD:PUBLISH
BEGIN:VEVENT
UID:69ecf08bed11c
DTSTAMP:20260425T164915Z
DTSTART:20251114T213000Z
DTEND:20251116T220000Z
LOCATION:
SUMMARY:Youth Fall Hocking Hills Retreat 2025
DESCRIPTION:November 14–16\,  2025We are inviting all Middle and High Sch
 ool Students to join us for our Fall retreat at Hocking Hills Retreat Cente
 r in Logan Ohio! This will be an amazing weekend full of fellowship\,  game
 s\,  zip lining\,  and most importantly\,  times of worship and moments for
  your students to[..]\nhttps://www.shepnaz.org/events/youth-bonfire-summer-
 kickoff/
URL:https://www.shepnaz.org/events/youth-bonfire-summer-kickoff/
END:VEVENT
END:VCALENDAR